BEGIN:VCALENDAR
VERSION:2.0
PRODID:-//Submissive Guide - ECPv6.15.17//NONSGML v1.0//EN
CALSCALE:GREGORIAN
METHOD:PUBLISH
X-WR-CALNAME:Submissive Guide
X-ORIGINAL-URL:https://submissiveguide.com
X-WR-CALDESC:Events for Submissive Guide
REFRESH-INTERVAL;VALUE=DURATION:PT1H
X-Robots-Tag:noindex
X-PUBLISHED-TTL:PT1H
BEGIN:VTIMEZONE
TZID:America/Chicago
BEGIN:DAYLIGHT
TZOFFSETFROM:-0600
TZOFFSETTO:-0500
TZNAME:CDT
DTSTART:20240310T080000
END:DAYLIGHT
BEGIN:STANDARD
TZOFFSETFROM:-0500
TZOFFSETTO:-0600
TZNAME:CST
DTSTART:20241103T070000
END:STANDARD
BEGIN:DAYLIGHT
TZOFFSETFROM:-0600
TZOFFSETTO:-0500
TZNAME:CDT
DTSTART:20250309T080000
END:DAYLIGHT
BEGIN:STANDARD
TZOFFSETFROM:-0500
TZOFFSETTO:-0600
TZNAME:CST
DTSTART:20251102T070000
END:STANDARD
BEGIN:DAYLIGHT
TZOFFSETFROM:-0600
TZOFFSETTO:-0500
TZNAME:CDT
DTSTART:20260308T080000
END:DAYLIGHT
BEGIN:STANDARD
TZOFFSETFROM:-0500
TZOFFSETTO:-0600
TZNAME:CST
DTSTART:20261101T070000
END:STANDARD
END:VTIMEZONE
BEGIN:VEVENT
DTSTART;TZID=America/Chicago:20250117T190000
DTEND;TZID=America/Chicago:20250117T213000
DTSTAMP:20260423T104131
CREATED:20250110T130045Z
LAST-MODIFIED:20250109T151336Z
UID:8492-1737140400-1737149400@submissiveguide.com
SUMMARY:Submissive Forum on Erotic Begging
DESCRIPTION:Join us on Jan 17\, 2025\, in the Submissive Forum voice chat on our Discord server for a Submissive Forum.  \nTopic: Erotic Begging \nThe Submissive Forum is open to all who identify as an s-type role\, including switches with your sub hat on. The forum will present a topic for discussion and then be open to any questions and discussions about submission. \nTo join our Discord server\, click this link: https://subgui.de/chat \nAs with all of our Forums\, this is a sacred space that is non-judgmental and confidential. Let’s offer each other support and guidance in a safe environment. To encourage a safe space for our attendees\, no Dominants are permitted. \nAbout Our Discord Server \nOur Discord server is open to everyone 18 years of age and older.  Sign up before the forum so you can test our server and your headset before we start. If you run into any problems\, contact a server moderator for assistance. \nTo join our Discord server\, click this link: https://subgui.de/chat \nHow to connect to an Age-Restricted Discord server from an Apple device: https://support.discord.com/hc/en-us/articles/1500005292701-Accessing-an-NSFW-Server-FAQ   \nWant to learn more? \nSince 2009\, Submissive Guide’s mission has been to provide down-to-earth educational BDSM content that helps people learn\, and explore kink and D/s relationships in a healthy way. That is our continued goal.  \nAble to Help Support Submissive Guide? \nThe generous pledges from members through our Patreon page help us provide current and future education opportunities for our community online. Please click here to join our Patreon: https://patreon.com/subguide
URL:https://submissiveguide.com/event/submissive-forum-on-erotic-begging/
LOCATION:Our Discord Server
CATEGORIES:Submissive Forum
ATTACH;FMTTYPE=image/png:https://submissiveguide.com/wp-content/uploads/2025/01/Sub-Forum-Banner.png
END:VEVENT
BEGIN:VEVENT
DTSTART;TZID=America/Chicago:20250112T150000
DTEND;TZID=America/Chicago:20250112T170000
DTSTAMP:20260423T104131
CREATED:20241205T165236Z
LAST-MODIFIED:20241226T173146Z
UID:7002-1736694000-1736701200@submissiveguide.com
SUMMARY:Discord Community Munch
DESCRIPTION:Our Discord community munch is happening again this Sunday\, and we can’t wait to see you all there! 🥳✨ \nIt’s a perfect opportunity to connect with fellow members\, share experiences\, and simply enjoy each other’s company. \nNot sure what to expect? Don’t worry! A munch is a social gathering for kink-interested people. So\, come as you are and bring your positive vibes! Let’s make this Sunday an unforgettable one. 🌟 \n📍 Location: Our Discord Server https://subgui.de/chat \nSee you there\, friends! 😄🎉
URL:https://submissiveguide.com/event/kink-network-munch-on-discord/
LOCATION:Our Discord Server
CATEGORIES:Virtual Munch
ATTACH;FMTTYPE=image/png:https://submissiveguide.com/wp-content/uploads/2024/12/Community-Munch.png
END:VEVENT
BEGIN:VEVENT
DTSTART;VALUE=DATE:20250101
DTEND;VALUE=DATE:20250201
DTSTAMP:20260423T104131
CREATED:20241227T164903Z
LAST-MODIFIED:20241227T164921Z
UID:8390-1735689600-1738367999@submissiveguide.com
SUMMARY:Patreon Book of the Month for January 2025 - Lessons in Submissive Speech
DESCRIPTION:We’re thrilled to announce that the Book of the Month for January 2025 is “Lessons in Submissive Speech!” As part of your patronage of Submissive Guide\, you’ll receive this book as a token of our appreciation. \nLearn more about the book \nSign up for our Devoted tier in Submissive Guide Patreon and get your copy for free! Plus\, you’ll be supporting positive BDSM education. Click here to join: https://patreon.com/subguide \nLet’s explore submissive speech together! \nWhat is Submissive Guide’s Patreon?\nWe are a community of new and experienced submissives and the Dominants who support us. We believe education and shared knowledge are key to learning and exploring BDSM and D/s relationships. \nSince 2009\, Submissive Guide’s mission has been to provide practical educational BDSM content that can really help people learn and explore kink and build healthy D/s relationships. That is our continued goal. \nIn our Patreon\, you will be supporting positive BDSM education for the future. You’ll get access to sneak peeks and behind-the-scenes work for all of our newest educational content. Some of the best Submissive Guide has to offer. We’ll continue the conversation in private chat on Discord. No matter where you are on your journey\, we’ll be there. \nJoin Now- http://patreon.com/subguide
URL:https://submissiveguide.com/event/patreon-book-of-the-month-for-january-2025-lessons-in-submissive-speech/
LOCATION:Submissive Guide on Patreon
CATEGORIES:Membership Exclusive Events
ATTACH;FMTTYPE=image/jpeg:https://submissiveguide.com/wp-content/uploads/2024/12/BOTM-Large-Header.jpg
END:VEVENT
END:VCALENDAR